BEGIN:VCALENDAR
VERSION:2.0
PRODID:SchoolNow
CALSCALE:GREGORIAN
BEGIN:VEVENT
UID:6bab0eba-2f15-11e9-9e35-0a4b0b5ca8be
DTSTAMP:20190212T222745Z
SUMMARY:4th Gr Field Trip
LOCATION:Chicago History Museum\, 1601 N Clark Street\, Chicago\, IL
URL;VALUE=URI:https://www.op97.org/beye/calendar/1944100/4th-gr-field-trip
DTSTART:20190509T140000Z
DTEND:20190509T191500Z
END:VEVENT
END:VCALENDAR
