BEGIN:VCALENDAR
VERSION:2.0
PRODID:SchoolNow
CALSCALE:GREGORIAN
BEGIN:VEVENT
UID:7bcadbb6-3c3c-11e9-a858-122940dc3592
DTSTAMP:20190301T161008Z
SUMMARY:3rd Gr FT
LOCATION:Peggy Notebaert Nature Museum\, 2430 N Cannon Dr\, Chicago\, IL 60
 614\, USA
URL;VALUE=URI:https://www.op97.org/beye/calendar/1950527/3rd-gr-ft
DTSTART:20190425T140000Z
DTEND:20190425T190000Z
END:VEVENT
END:VCALENDAR
