BEGIN:VCALENDAR
VERSION:2.0
PRODID:SchoolNow
CALSCALE:GREGORIAN
BEGIN:VEVENT
UID:09eeb7e0-45a3-11e9-b024-12246e9911dc
DTSTAMP:20190313T151656Z
SUMMARY:4th Gr Pen Pal Picnic
LOCATION:Taylor Park 400 Division St Oak Park\, IL 60160\, Oak Park\, IL 60
 302\, USA
URL;VALUE=URI:https://www.op97.org/beye/calendar/1955107/4th-gr-pen-pal-pic
 nic
DTSTART:20190530T161500Z
DTEND:20190530T190000Z
END:VEVENT
END:VCALENDAR
