BEGIN:VCALENDAR
VERSION:2.0
PRODID:SchoolNow
CALSCALE:GREGORIAN
BEGIN:VEVENT
UID:b7b3711e-4be2-11e9-82d2-1262e792eb54
DTSTAMP:20190321T140752Z
SUMMARY:1st Gr FT
LOCATION:Filament Theater\, 4041 N. Milwaukee Ave\, Chicago\, IL  60641
URL;VALUE=URI:https://www.op97.org/beye/calendar/1958228/1st-gr-ft
DTSTART:20190507T161500Z
DTEND:20190507T190000Z
END:VEVENT
END:VCALENDAR
