BEGIN:VCALENDAR
VERSION:2.0
PRODID:SchoolNow
CALSCALE:GREGORIAN
BEGIN:VEVENT
UID:4da23a6c-4c1e-11e9-b709-0a59876cc616
DTSTAMP:20190321T211424Z
SUMMARY:District 97 Physical Education Department Fun Run
LOCATION:Lindberg Park\, 1151 N. Marion St.
URL;VALUE=URI:https://www.op97.org/beye/calendar/1958951/district-97-physic
 al-education-department-fun-run
DTSTART:20190504T130000Z
DTEND:20190504T150000Z
END:VEVENT
END:VCALENDAR
