BEGIN:VCALENDAR
VERSION:2.0
PRODID:SchoolNow
CALSCALE:GREGORIAN
BEGIN:VEVENT
UID:a8cebe0a-5a3e-11e9-b230-12629c6f4f2c
DTSTAMP:20190408T204117Z
SUMMARY:Tribute to Excellence
LOCATION:Beye School Auditorium
URL;VALUE=URI:https://www.op97.org/beye/calendar/1966105/tribute-to-excelle
 nce
DTSTART:20190528T131500Z
DTEND:20190528T143000Z
END:VEVENT
END:VCALENDAR
