BEGIN:VCALENDAR
VERSION:2.0
PRODID:SchoolNow
CALSCALE:GREGORIAN
BEGIN:VEVENT
UID:1458feea-5d34-11e9-b594-12e8d678bc28
DTSTAMP:20190412T150307Z
SUMMARY:5th Gr Science Partnership Walking FT
URL;VALUE=URI:https://www.op97.org/beye/calendar/1967648/5th-gr-science-par
 tnership-walking-ft
DTSTART:20190522T050100Z
DTEND:20190522T182000Z
END:VEVENT
END:VCALENDAR
