BEGIN:VCALENDAR
VERSION:2.0
PRODID:SchoolNow
CALSCALE:GREGORIAN
BEGIN:VEVENT
UID:aa265f2a-5d35-11e9-b4e1-12bf85bbc9a6
DTSTAMP:20190412T151748Z
SUMMARY:K Walking FT to OPPL
URL;VALUE=URI:https://www.op97.org/beye/calendar/1967650/k-thomas-walking-f
 t-to-oppl
DTSTART:20190502T133000Z
DTEND:20190502T160000Z
END:VEVENT
END:VCALENDAR
