BEGIN:VCALENDAR
VERSION:2.0
PRODID:SchoolNow
CALSCALE:GREGORIAN
BEGIN:VEVENT
UID:dd7908d6-61e1-11e9-bde1-0adafb58a900
DTSTAMP:20190418T135712Z
SUMMARY:5th Gr Field Trip
LOCATION:The Art Institute of Chicago\, 111 S Michigan Ave\, Chicago\, IL 6
 0603\, USA
URL;VALUE=URI:https://www.op97.org/beye/calendar/1970652/5th-gr-field-trip
DTSTART:20190523T143000Z
DTEND:20190523T190000Z
END:VEVENT
END:VCALENDAR
