BEGIN:VCALENDAR
VERSION:2.0
PRODID:SchoolNow
CALSCALE:GREGORIAN
BEGIN:VEVENT
UID:a2279ba8-682b-11e9-b287-0a97fe9a481a
DTSTAMP:20190426T140022Z
SUMMARY:New Family Welcome
URL;VALUE=URI:https://www.op97.org/beye/calendar/1976014/new-family-welcome
DTSTART:20190825T200000Z
DTEND:20190825T210000Z
END:VEVENT
END:VCALENDAR
