BEGIN:VCALENDAR
VERSION:2.0
PRODID:SchoolNow
CALSCALE:GREGORIAN
BEGIN:VEVENT
UID:96b05548-6c37-11e9-b6b9-0a532769c700
DTSTAMP:20190501T173601Z
SUMMARY:Kindergarten Open House (District Wide)
URL;VALUE=URI:https://www.op97.org/beye/calendar/1979782/kindergarten-open-
 house-district-wide
DTSTART:20190501T200000Z
DTEND:20190501T210000Z
END:VEVENT
END:VCALENDAR
