BEGIN:VCALENDAR
VERSION:2.0
PRODID:SchoolNow
CALSCALE:GREGORIAN
BEGIN:VEVENT
UID:1b3fdeb6-6c59-11e9-91e1-0aa2cc118a5a
DTSTAMP:20190501T213557Z
SUMMARY:End of Year Kindergarten Block Party
URL;VALUE=URI:https://www.op97.org/beye/calendar/1980231/end-of-year-kinder
 garten-block-party
DTSTART:20190606T140000Z
DTEND:20190606T190000Z
END:VEVENT
END:VCALENDAR
