BEGIN:VCALENDAR
VERSION:2.0
PRODID:SchoolNow
CALSCALE:GREGORIAN
BEGIN:VEVENT
UID:6061a8d2-7355-11e9-9eac-0a35985b044a
DTSTAMP:20190510T185653Z
SUMMARY:5th Gr Field Trip
LOCATION:DuSable Museum of African American History 740 E 56th Pl\, Chicago
 \, IL 60637\, USA
URL;VALUE=URI:https://www.op97.org/beye/calendar/1984013/5th-gr-field-trip
DTSTART:20190514T140000Z
DTEND:20190514T180000Z
END:VEVENT
END:VCALENDAR
