BEGIN:VCALENDAR
VERSION:2.0
PRODID:SchoolNow
CALSCALE:GREGORIAN
BEGIN:VEVENT
UID:207a8d46-819d-11e9-8fff-0a0d309a4146
DTSTAMP:20200501T130317Z
SUMMARY:5th Gr Orientation (Students) PJMS-Cancelled
LOCATION:Percy Julian Middle School\, 416 S Ridgeland Ave\, Oak Park\, IL 6
 0302\, USA
URL;VALUE=URI:https://www.op97.org/beye/calendar/1992413/5th-gr-orientation
 -students-pjms
DTSTART:20200423T141500Z
DTEND:20200424T030300Z
END:VEVENT
END:VCALENDAR
