BEGIN:VCALENDAR
VERSION:2.0
PRODID:SchoolNow
CALSCALE:GREGORIAN
BEGIN:VEVENT
UID:51026de4-819d-11e9-86dd-0a0d309a4146
DTSTAMP:20200501T130345Z
SUMMARY:Incoming 6th Grade Parent Orientation Night-Cancelled
LOCATION:Percy Julian Middle School\, 416 S Ridgeland Ave\, Oak Park\, IL 6
 0302\, USA
URL;VALUE=URI:https://www.op97.org/beye/calendar/1992414/incoming-6th-grade
 -parent-orientation-night
DTSTART:20200423T230000Z
DTEND:20200424T000600Z
END:VEVENT
END:VCALENDAR
