BEGIN:VCALENDAR
VERSION:2.0
PRODID:SchoolNow
CALSCALE:GREGORIAN
BEGIN:VEVENT
UID:4b09dc26-8867-11e9-84fc-0a8f047a5dc6
DTSTAMP:20190606T142803Z
SUMMARY:End of Year Teacher Dance
URL;VALUE=URI:https://www.op97.org/beye/calendar/1998633/end-of-year-teache
 r-dance
DTSTART:20190606T192000Z
DTEND:20190606T202000Z
END:VEVENT
END:VCALENDAR
