BEGIN:VCALENDAR
VERSION:2.0
PRODID:SchoolNow
CALSCALE:GREGORIAN
BEGIN:VEVENT
UID:8d23c248-9299-11e9-884c-1291ea52b754
DTSTAMP:20190619T141616Z
SUMMARY:1st Day of School (Dismissal @ 2:30p)
URL;VALUE=URI:https://www.op97.org/beye/calendar/2008038/1st-day-of-school-
 dismissal-2-30p
DTSTART:20190828T130000Z
DTEND:20190828T193000Z
END:VEVENT
END:VCALENDAR
