BEGIN:VCALENDAR
VERSION:2.0
PRODID:SchoolNow
CALSCALE:GREGORIAN
BEGIN:VEVENT
UID:6de4c740-929b-11e9-84b4-1231dc4ce14e
DTSTAMP:20190619T140752Z
SUMMARY:1/2 Day P/T Conferences (Dismissal @ 11a)
URL;VALUE=URI:https://www.op97.org/beye/calendar/2008087/1-2-day-p-t-confer
 ences-dismissal-11a
DTSTART:20191024T130000Z
DTEND:20191024T160000Z
END:VEVENT
END:VCALENDAR
