BEGIN:VCALENDAR
VERSION:2.0
PRODID:SchoolNow
CALSCALE:GREGORIAN
BEGIN:VEVENT
UID:88f4035c-929b-11e9-bd8c-0a67527bca5c
DTSTAMP:20190619T140818Z
SUMMARY:1/2 Day P/T Conferences (Dismissal @ 11a)
URL;VALUE=URI:https://www.op97.org/beye/calendar/2008088/1-2-day-p-t-confer
 ences-dismissal-11a-clone
DTSTART:20191025T130000Z
DTEND:20191025T160000Z
END:VEVENT
END:VCALENDAR
