BEGIN:VCALENDAR
VERSION:2.0
PRODID:SchoolNow
CALSCALE:GREGORIAN
BEGIN:VEVENT
UID:371206c4-92a0-11e9-82b5-12fc214ad644
DTSTAMP:20190619T144042Z
SUMMARY:1/2 Day P/T Conferences (Dismissal @ 11a)
URL;VALUE=URI:https://www.op97.org/beye/calendar/2008135/1-2-day-p-t-confer
 ences-dismissal-11a-clone
DTSTART:20200130T140000Z
DTEND:20200130T170000Z
END:VEVENT
END:VCALENDAR
