BEGIN:VCALENDAR
VERSION:2.0
PRODID:SchoolNow
CALSCALE:GREGORIAN
BEGIN:VEVENT
UID:6d2a2782-92a0-11e9-864e-12fc214ad644
DTSTAMP:20190619T144213Z
SUMMARY:1/2 Day P/T Conferences (Dismissal @ 11a)
URL;VALUE=URI:https://www.op97.org/beye/calendar/2008137/1-2-day-p-t-confer
 ences-dismissal-11a-clone-clone
DTSTART:20200131T140000Z
DTEND:20200131T170000Z
END:VEVENT
END:VCALENDAR
