BEGIN:VCALENDAR
VERSION:2.0
PRODID:SchoolNow
CALSCALE:GREGORIAN
BEGIN:VEVENT
UID:0d4a7b1e-92af-11e9-bfe6-0a5008419b24
DTSTAMP:20190619T162655Z
SUMMARY:PTO All School Assembly
URL;VALUE=URI:https://www.op97.org/beye/calendar/2008482/pto-all-school-ass
 embly
DTSTART:20200205T150000Z
DTEND:20200205T170000Z
END:VEVENT
END:VCALENDAR
