BEGIN:VCALENDAR
VERSION:2.0
PRODID:SchoolNow
CALSCALE:GREGORIAN
BEGIN:VEVENT
UID:428beff2-92b8-11e9-a1f1-0a5c17f21eca
DTSTAMP:20190619T173249Z
SUMMARY:First Day of School
URL;VALUE=URI:https://www.op97.org/beye/calendar/2008615/first-day-of-schoo
 l-082819
DTSTART;VALUE=DATE:20190828
DTEND;VALUE=DATE:20190829
END:VEVENT
END:VCALENDAR
