BEGIN:VCALENDAR
VERSION:2.0
PRODID:SchoolNow
CALSCALE:GREGORIAN
BEGIN:VEVENT
UID:f1110d96-92b8-11e9-9024-0a5c17f21eca
DTSTAMP:20190619T173742Z
SUMMARY:Parent-Teacher Conferences - Half Day (AM Only)
URL;VALUE=URI:https://www.op97.org/beye/calendar/2008692/parent-teacher-con
 ferences-half-day-am-only-013020
DTSTART;VALUE=DATE:20200130
DTEND;VALUE=DATE:20200131
END:VEVENT
END:VCALENDAR
