BEGIN:VCALENDAR
VERSION:2.0
PRODID:SchoolNow
CALSCALE:GREGORIAN
BEGIN:VEVENT
UID:fae8b8aa-92b8-11e9-86ae-0a5c17f21eca
DTSTAMP:20190619T173759Z
SUMMARY:Parent-Teacher Conferences - Half Day (AM Only)
URL;VALUE=URI:https://www.op97.org/beye/calendar/2008702/parent-teacher-con
 ferences-half-day-am-only-013120
DTSTART;VALUE=DATE:20200131
DTEND;VALUE=DATE:20200201
END:VEVENT
END:VCALENDAR
