BEGIN:VCALENDAR
VERSION:2.0
PRODID:SchoolNow
CALSCALE:GREGORIAN
BEGIN:VEVENT
UID:4f51c0c6-92b9-11e9-9ea2-0a5c17f21eca
DTSTAMP:20190619T174020Z
SUMMARY:Labor Day - No School
URL;VALUE=URI:https://www.op97.org/beye/calendar/2008713/labor-day-no-schoo
 l-2019
DTSTART;VALUE=DATE:20190902
DTEND;VALUE=DATE:20190903
END:VEVENT
END:VCALENDAR
