BEGIN:VCALENDAR
VERSION:2.0
PRODID:SchoolNow
CALSCALE:GREGORIAN
BEGIN:VEVENT
UID:8299a84a-92b9-11e9-80ae-0a5c17f21eca
DTSTAMP:20190619T174146Z
SUMMARY:Presidents Day - No School
URL;VALUE=URI:https://www.op97.org/beye/calendar/2008724/presidents-day-no-
 school-2020
DTSTART;VALUE=DATE:20200217
DTEND;VALUE=DATE:20200218
END:VEVENT
END:VCALENDAR
