BEGIN:VCALENDAR
VERSION:2.0
PRODID:SchoolNow
CALSCALE:GREGORIAN
BEGIN:VEVENT
UID:a69e34cc-92b9-11e9-a75a-0a5c17f21eca
DTSTAMP:20190619T174247Z
SUMMARY:Martin Luther King Jr. Day - No School
URL;VALUE=URI:https://www.op97.org/beye/calendar/2008735/martin-luther-king
 -jr-day-no-school-2020
DTSTART;VALUE=DATE:20200120
DTEND;VALUE=DATE:20200121
END:VEVENT
END:VCALENDAR
