BEGIN:VCALENDAR
VERSION:2.0
PRODID:SchoolNow
CALSCALE:GREGORIAN
BEGIN:VEVENT
UID:d242c64e-92c1-11e9-871b-0a5c17f21eca
DTSTAMP:20190619T184116Z
SUMMARY:Memorial Day - No School
URL;VALUE=URI:https://www.op97.org/beye/calendar/2008746/memorial-day-no-sc
 hool-2020
DTSTART;VALUE=DATE:20200525
DTEND;VALUE=DATE:20200526
END:VEVENT
END:VCALENDAR
