BEGIN:VCALENDAR
VERSION:2.0
PRODID:SchoolNow
CALSCALE:GREGORIAN
BEGIN:VEVENT
UID:3c65eefc-92c2-11e9-b37a-12378edc2e1e
DTSTAMP:20190619T184414Z
SUMMARY:Second Trimester Ends
URL;VALUE=URI:https://www.op97.org/beye/calendar/2008769/second-trimester-e
 nds-2020
DTSTART;VALUE=DATE:20200228
DTEND;VALUE=DATE:20200229
END:VEVENT
END:VCALENDAR
