BEGIN:VCALENDAR
VERSION:2.0
PRODID:SchoolNow
CALSCALE:GREGORIAN
BEGIN:VEVENT
UID:4716a1ac-92c2-11e9-9978-12378edc2e1e
DTSTAMP:20190619T184432Z
SUMMARY:Third Trimester Ends
URL;VALUE=URI:https://www.op97.org/beye/calendar/2008779/third-trimester-en
 ds-2020
DTSTART;VALUE=DATE:20200604
DTEND;VALUE=DATE:20200605
END:VEVENT
END:VCALENDAR
