BEGIN:VCALENDAR
VERSION:2.0
PRODID:SchoolNow
CALSCALE:GREGORIAN
BEGIN:VEVENT
UID:f01316e0-9b4c-11e9-b01c-1298f3c660ea
DTSTAMP:20190630T153715Z
SUMMARY:Spelling Bee
URL;VALUE=URI:https://www.op97.org/beye/calendar/2016628/spelling-bee
DTSTART:20200116T003000Z
DTEND:20200116T023000Z
END:VEVENT
END:VCALENDAR
