BEGIN:VCALENDAR
VERSION:2.0
PRODID:SchoolNow
CALSCALE:GREGORIAN
BEGIN:VEVENT
UID:85184c18-9c1c-11e9-afbf-0a0c392ec0e6
DTSTAMP:20190701T162311Z
SUMMARY:Back to School Picnic
URL;VALUE=URI:https://www.op97.org/beye/calendar/2017919/back-to-school-pic
 nic
DTSTART:20190830T220000Z
DTEND:20190831T010000Z
END:VEVENT
END:VCALENDAR
