BEGIN:VCALENDAR
VERSION:2.0
PRODID:SchoolNow
CALSCALE:GREGORIAN
BEGIN:VEVENT
UID:498aabcc-9db2-11e9-9cdf-120690e3a0a4
DTSTAMP:20190703T164747Z
SUMMARY:Curriculm Night
URL;VALUE=URI:https://www.op97.org/beye/calendar/2025232/curriculm-night
DTSTART:20190904T230000Z
DTEND:20190905T003000Z
END:VEVENT
END:VCALENDAR
