BEGIN:VCALENDAR
VERSION:2.0
PRODID:SchoolNow
CALSCALE:GREGORIAN
BEGIN:VEVENT
UID:980c6326-9dcb-11e9-9f70-0a345ceeba3e
DTSTAMP:20190703T194856Z
SUMMARY:PTO General Membership Meeting
LOCATION:Beye School Commons
URL;VALUE=URI:https://www.op97.org/beye/calendar/2025399/pto-general-member
 ship-meeting
DTSTART:20190907T140000Z
DTEND:20190907T160000Z
END:VEVENT
END:VCALENDAR
