BEGIN:VCALENDAR
VERSION:2.0
PRODID:SchoolNow
CALSCALE:GREGORIAN
BEGIN:VEVENT
UID:bcce2c76-9dcb-11e9-8815-0a345ceeba3e
DTSTAMP:20190703T194958Z
SUMMARY:PTO General Membership Meeting
LOCATION:Beye School Commons
URL;VALUE=URI:https://www.op97.org/beye/calendar/2025400/pto-general-member
 ship-meeting
DTSTART:20191102T140000Z
DTEND:20191102T160000Z
END:VEVENT
END:VCALENDAR
