BEGIN:VCALENDAR
VERSION:2.0
PRODID:SchoolNow
CALSCALE:GREGORIAN
BEGIN:VEVENT
UID:e2013380-9dcb-11e9-aea7-0a345ceeba3e
DTSTAMP:20190703T195100Z
SUMMARY:PTO General Membership Meeting
LOCATION:Beye School Commons
URL;VALUE=URI:https://www.op97.org/beye/calendar/2025401/pto-general-member
 ship-meeting
DTSTART:20200111T150000Z
DTEND:20200111T170000Z
END:VEVENT
END:VCALENDAR
