BEGIN:VCALENDAR
VERSION:2.0
PRODID:SchoolNow
CALSCALE:GREGORIAN
BEGIN:VEVENT
UID:4f08d494-ae5a-11e9-babe-0ad2ee4b2a28
DTSTAMP:20190724T213050Z
SUMMARY:K-8 Registration Event - New Students
LOCATION:Administration Building - 260 Madison Street
URL;VALUE=URI:https://www.op97.org/beye/calendar/2038731/k-8-registration-e
 vent-new-students-080819
DTSTART:20190808T213000Z
DTEND:20190809T000000Z
END:VEVENT
END:VCALENDAR
