BEGIN:VCALENDAR
VERSION:2.0
PRODID:SchoolNow
CALSCALE:GREGORIAN
BEGIN:VEVENT
UID:e1cd4620-b85f-11e9-9659-126bec2fddc4
DTSTAMP:20190807T165702Z
SUMMARY:Special Board Meeting: Community Feedback Session on Equity
LOCATION:Brooks Middle School (Commons)\, 325 S. Kenilworth Ave.
URL;VALUE=URI:https://www.op97.org/beye/calendar/2049015/vision97-4all-comm
 unity-feedback-session-about-equity-081419
DTSTART:20190814T233000Z
DTEND:20190815T010000Z
END:VEVENT
END:VCALENDAR
