BEGIN:VCALENDAR
VERSION:2.0
PRODID:SchoolNow
CALSCALE:GREGORIAN
BEGIN:VEVENT
UID:96c08ba0-b9fa-11e9-af56-1289c44cd5e0
DTSTAMP:20190808T164001Z
SUMMARY:Cool Off at Beye (PTO Fundraiser)
LOCATION:Donate/Purchase tickets
URL;VALUE=URI:https://www.op97.org/beye/calendar/2052815/cool-off-at-beye-p
 to-fundraiser
DTSTART:20190825T200000Z
DTEND:20190825T220000Z
END:VEVENT
END:VCALENDAR
