BEGIN:VCALENDAR
VERSION:2.0
PRODID:SchoolNow
CALSCALE:GREGORIAN
BEGIN:VEVENT
UID:da40837a-bcfd-11e9-966b-1258bfa4afe8
DTSTAMP:20190812T123648Z
SUMMARY:Beye School Health Fair
URL;VALUE=URI:https://www.op97.org/beye/calendar/2054295/beye-school-health
 -fair
DTSTART:20191219T140000Z
DTEND:20191220T180000Z
END:VEVENT
END:VCALENDAR
