BEGIN:VCALENDAR
VERSION:2.0
PRODID:SchoolNow
CALSCALE:GREGORIAN
BEGIN:VEVENT
UID:3ab2747a-bcfe-11e9-a24a-1258bfa4afe8
DTSTAMP:20190812T123930Z
SUMMARY:Fall Book Fair
LOCATION:Beye School Commons
URL;VALUE=URI:https://www.op97.org/beye/calendar/2054296/fall-book-fair
DTSTART:20191023T123000Z
DTEND:20191023T230000Z
END:VEVENT
END:VCALENDAR
