BEGIN:VCALENDAR
VERSION:2.0
PRODID:SchoolNow
CALSCALE:GREGORIAN
BEGIN:VEVENT
UID:5deaec42-bcfe-11e9-87f5-1258bfa4afe8
DTSTAMP:20190812T124029Z
SUMMARY:Fall Book Fair
LOCATION:Beye School Commons
URL;VALUE=URI:https://www.op97.org/beye/calendar/2054297/fall-book-fair-clo
 ne
DTSTART:20191024T123000Z
DTEND:20191024T230000Z
END:VEVENT
END:VCALENDAR
