BEGIN:VCALENDAR
VERSION:2.0
PRODID:SchoolNow
CALSCALE:GREGORIAN
BEGIN:VEVENT
UID:779f1546-bcfe-11e9-a472-1258bfa4afe8
DTSTAMP:20190812T124112Z
SUMMARY:Fall Book Fair
LOCATION:Beye School Commons
URL;VALUE=URI:https://www.op97.org/beye/calendar/2054298/fall-book-fair-clo
 ne-clone
DTSTART:20191025T123000Z
DTEND:20191025T170000Z
END:VEVENT
END:VCALENDAR
