BEGIN:VCALENDAR
VERSION:2.0
PRODID:SchoolNow
CALSCALE:GREGORIAN
BEGIN:VEVENT
UID:baa86518-bcfe-11e9-9826-1258bfa4afe8
DTSTAMP:20190812T124305Z
SUMMARY:Winter Book Fair
LOCATION:Beye School Commons
URL;VALUE=URI:https://www.op97.org/beye/calendar/2054299/fall-book-fair-clo
 ne
DTSTART:20200129T133000Z
DTEND:20200130T000000Z
END:VEVENT
END:VCALENDAR
