BEGIN:VCALENDAR
VERSION:2.0
PRODID:SchoolNow
CALSCALE:GREGORIAN
BEGIN:VEVENT
UID:d55abfa0-bcfe-11e9-a881-1258bfa4afe8
DTSTAMP:20190812T124349Z
SUMMARY:Winter Book Fair
LOCATION:Beye School Commons
URL;VALUE=URI:https://www.op97.org/beye/calendar/2054300/fall-book-fair-clo
 ne-clone
DTSTART:20200130T133000Z
DTEND:20200131T000000Z
END:VEVENT
END:VCALENDAR
