BEGIN:VCALENDAR
VERSION:2.0
PRODID:SchoolNow
CALSCALE:GREGORIAN
BEGIN:VEVENT
UID:0beb4b7c-bd07-11e9-bcbe-0ac463bbd41e
DTSTAMP:20190812T134237Z
SUMMARY:Open House & School Supply Drop-off
URL;VALUE=URI:https://www.op97.org/beye/calendar/2054308/open-house-school-
 supply-drop-off
DTSTART:20190802T183000Z
DTEND:20190802T190000Z
END:VEVENT
END:VCALENDAR
