BEGIN:VCALENDAR
VERSION:2.0
PRODID:SchoolNow
CALSCALE:GREGORIAN
BEGIN:VEVENT
UID:73e7cc16-bd3c-11e9-b67b-12f5a3d5c866
DTSTAMP:20190812T200455Z
SUMMARY:PTO Welcome Back Coffee
LOCATION:Outside on Beye School Deck
URL;VALUE=URI:https://www.op97.org/beye/calendar/2060033/pto-welcome-back-c
 offee
DTSTART:20190828T130000Z
DTEND:20190828T140000Z
END:VEVENT
END:VCALENDAR
