BEGIN:VCALENDAR
VERSION:2.0
PRODID:SchoolNow
CALSCALE:GREGORIAN
BEGIN:VEVENT
UID:75a5cf0e-be1c-11e9-852a-12843ea889d8
DTSTAMP:20190813T224825Z
SUMMARY:K-8 Registration Event - New Students
LOCATION:Administration Building - 260 Madison Street
URL;VALUE=URI:https://www.op97.org/beye/calendar/2063566/k-8-registration-e
 vent-new-students-081719
DTSTART:20190817T170000Z
DTEND:20190817T200000Z
END:VEVENT
END:VCALENDAR
