BEGIN:VCALENDAR
VERSION:2.0
PRODID:SchoolNow
CALSCALE:GREGORIAN
BEGIN:VEVENT
UID:9816f288-c831-11e9-b479-12499a779b18
DTSTAMP:20191002T160028Z
SUMMARY:5th Gr Field Trip
LOCATION:Museum of Science and Industry\, Chicago\, 5700 S Lake Shore Dr\, 
 Chicago\, IL 60637\, USA
URL;VALUE=URI:https://www.op97.org/beye/calendar/2073507/5th-gr-field-trip
DTSTART:20191112T150000Z
DTEND:20191112T201500Z
END:VEVENT
END:VCALENDAR
